BEGIN:VCALENDAR
VERSION:2.0
PRODID:-//Caprice Restaurant - ECPv6.3.5//NONSGML v1.0//EN
CALSCALE:GREGORIAN
METHOD:PUBLISH
X-WR-CALNAME:Caprice Restaurant
X-ORIGINAL-URL:https://www.restaurant-caprice.fr
X-WR-CALDESC:évènements pour Caprice Restaurant
REFRESH-INTERVAL;VALUE=DURATION:PT1H
X-Robots-Tag:noindex
X-PUBLISHED-TTL:PT1H
BEGIN:VTIMEZONE
TZID:Europe/Paris
BEGIN:DAYLIGHT
TZOFFSETFROM:+0100
TZOFFSETTO:+0200
TZNAME:CEST
DTSTART:20200329T010000
END:DAYLIGHT
BEGIN:STANDARD
TZOFFSETFROM:+0200
TZOFFSETTO:+0100
TZNAME:CET
DTSTART:20201025T010000
END:STANDARD
END:VTIMEZONE
BEGIN:VEVENT
DTSTART;TZID=Europe/Paris:20201016T203000
DTEND;TZID=Europe/Paris:20201016T233000
DTSTAMP:20260421T133435
CREATED:20200916T161921Z
LAST-MODIFIED:20200916T163119Z
UID:1174-1602880200-1602891000@www.restaurant-caprice.fr
SUMMARY:Spectacle dînatoire avec Anne Carrere
DESCRIPTION:Spectacle dînatoire avec Anne Carrere et ses chansons intimistes. \nSur réservation uniquement
URL:https://www.restaurant-caprice.fr/event/spectacle-dinatoire-avec-anne-carrere/
LOCATION:Domaine des Peirecèdes\, 1201 La Mué\, Cuers\, 83390\, France
CATEGORIES:En musique
ATTACH;FMTTYPE=image/jpeg:https://www.restaurant-caprice.fr/wp-content/uploads/2020/09/thumbnail_image001.jpg
ORGANIZER;CN="David & Ludo":MAILTO:l.ninou@icloud.com
END:VEVENT
BEGIN:VEVENT
DTSTART;TZID=Europe/Paris:20200924T180000
DTEND;TZID=Europe/Paris:20200924T233000
DTSTAMP:20260421T133435
CREATED:20200916T163717Z
LAST-MODIFIED:20200916T163717Z
UID:1184-1600970400-1600990200@www.restaurant-caprice.fr
SUMMARY:Fêtons la fin des vendanges
DESCRIPTION:Fêtons la fin des vendanges au domaine Frégate \nTrio Af Track \nVoyager au travers des années 60 jusqu’à aujourd’hui dans différents styles musicaux mêlants Jazz\, Blues\, Rock
URL:https://www.restaurant-caprice.fr/event/fetons-la-fin-des-vendanges/
LOCATION:Domaine de Frégate\, Route de Bandol RD559\, Saint-Cyr-sur-Mer\, 83270\, France
ATTACH;FMTTYPE=image/jpeg:https://www.restaurant-caprice.fr/wp-content/uploads/2020/09/Capture-decran-.-2020-09-16-a-17.55.37.jpg
ORGANIZER;CN="David & Ludo":MAILTO:l.ninou@icloud.com
END:VEVENT
END:VCALENDAR